BEGIN:VCALENDAR
VERSION:2.0
PRODID:-//Visionssuche, Vier Schilde, Medizinwanderung, Coaching - ECPv6.2.5//NONSGML v1.0//EN
CALSCALE:GREGORIAN
METHOD:PUBLISH
X-ORIGINAL-URL:https://helgebartels.de
X-WR-CALDESC:Veranstaltungen für Visionssuche, Vier Schilde, Medizinwanderung, Coaching
REFRESH-INTERVAL;VALUE=DURATION:PT1H
X-Robots-Tag:noindex
X-PUBLISHED-TTL:PT1H
BEGIN:VTIMEZONE
TZID:UTC
BEGIN:STANDARD
TZOFFSETFROM:+0000
TZOFFSETTO:+0000
TZNAME:UTC
DTSTART:20250101T000000
END:STANDARD
END:VTIMEZONE
BEGIN:VEVENT
DTSTART;TZID=UTC:20250305T180000
DTEND;TZID=UTC:20250305T230000
DTSTAMP:20260421T223000
CREATED:20250220T111623Z
LAST-MODIFIED:20250220T112001Z
UID:2258-1741197600-1741215600@helgebartels.de
SUMMARY:Männerabend
DESCRIPTION:Männerabend im Nestwerk \n18:00 Uhr. Council\, Atmen\, Council\, Meditation\, Sauna. \nBringt etwas für das Buffet mit und dein Handtuch\, falls du hinterher mit uns schwitzen möchtest.
URL:https://helgebartels.de/event/maennerabend-2/
LOCATION:Nestwerk\, Im Oberland 22\, Eschwege\, 37269
ATTACH;FMTTYPE=image/jpeg:https://helgebartels.de/wp-content/uploads/IMG_7545-scaled.jpeg
ORGANIZER;CN="Helge Bartels":MAILTO:info@helgebartels.de
END:VEVENT
BEGIN:VEVENT
DTSTART;TZID=UTC:20250321T120000
DTEND;TZID=UTC:20250321T220000
DTSTAMP:20260421T223000
CREATED:20240624T094131Z
LAST-MODIFIED:20250208T163219Z
UID:2139-1742558400-1742594400@helgebartels.de
SUMMARY:Schwitzhütte zum Frühlingsbeginn
DESCRIPTION:IMG_5835 \nDa unsere Schwitzhütte den Winter nicht überlebt hat\, beginnen wir diese Frühlingshütte damit\, eine komplett neue Hütte zu bauen. Es geht um 12:00 Uhr mit dem Bau der neuen Hütte los. Danach\, ca. gegen 16:00 Uhr fangen die normalen Vorbereitungen an und gehen gegen 19:00 Uhr in die Hütte. Du bringst Handtücher\, ein kleines Geschenk für die Feuerfrau\, Schoki oder so\, einen naturbelassenen Tabak für mich\, kommt in die Gebete und ein Baumwollkleid oder Tuch\, mit dem du dich in der Hütte bedecken kannst. Es geht bis etwa 22 Uhr\, danach noch ein Council. Falls du hier bleiben willst\, bring Isomatte und Schlafsack mit. Für nach der Hütte gestalten wir ein Buffett aus den Gaben der Teilnehmer. Salat\, Suppe\, usw. Der Energieausgleich ist 70€\, falls du hier bleibst\, zahlst du zusätzlich 20€. Dann müsstest du dir auch Frühstück mitbringen.
URL:https://helgebartels.de/event/schwitzhuette-zum-fruehlingsbeginn-4/
LOCATION:Nestwerk\, Im Oberland 22\, Eschwege\, 37269
ATTACH;FMTTYPE=image/jpeg:https://helgebartels.de/wp-content/uploads/EaTQw9bZQN2v1e6VOUdMA-scaled.jpg
END:VEVENT
END:VCALENDAR