BEGIN:VCALENDAR
VERSION:2.0
PRODID:-//Visionssuche, Vier Schilde, Medizinwanderung, Coaching - ECPv6.2.5//NONSGML v1.0//EN
CALSCALE:GREGORIAN
METHOD:PUBLISH
X-ORIGINAL-URL:https://helgebartels.de
X-WR-CALDESC:Veranstaltungen für Visionssuche, Vier Schilde, Medizinwanderung, Coaching
REFRESH-INTERVAL;VALUE=DURATION:PT1H
X-Robots-Tag:noindex
X-PUBLISHED-TTL:PT1H
BEGIN:VTIMEZONE
TZID:UTC
BEGIN:STANDARD
TZOFFSETFROM:+0000
TZOFFSETTO:+0000
TZNAME:UTC
DTSTART:20250101T000000
END:STANDARD
END:VTIMEZONE
BEGIN:VEVENT
DTSTART;TZID=UTC:20250212T180000
DTEND;TZID=UTC:20250212T230000
DTSTAMP:20260421T235354
CREATED:20250208T161929Z
LAST-MODIFIED:20250208T162056Z
UID:2226-1739383200-1739401200@helgebartels.de
SUMMARY:Männerabend
DESCRIPTION:https://helgebartels.de/wp-content/uploads/1adcfc2a06dd988959350d60c990a50c.mp4\n  \n  \nAm 12. Februar gibt es den nächsten freien Männerabend. Im Nestwerk\, 18:00 Uhr. Council\, Quantum Light Atmung und Sauna. Ab Mai organisiere ich zusätzlich eine Jahresgruppe. In dieser Jahresgruppe treffen wir uns ausser in den Schulferien jeden Monat einmal plus 2 Wochenenden mit Schwitzhütte\, Schwellengängen und Solozeiten in der Natur. Du kannst dich jetzt anmelden\, genaue Konditionen und Termine folgen. Liebst\, Helge
URL:https://helgebartels.de/event/maennerabend/
LOCATION:Nestwerk\, Im Oberland 22\, Eschwege\, 37269
ATTACH;FMTTYPE=image/jpeg:https://helgebartels.de/wp-content/uploads/Bildschirmfoto-2025-02-06-um-02.33.51.jpeg
ORGANIZER;CN="Helge Bartels":MAILTO:info@helgebartels.de
END:VEVENT
END:VCALENDAR