BEGIN:VCALENDAR
VERSION:2.0
PRODID:-//Visionssuche, Vier Schilde, Medizinwanderung, Coaching - ECPv6.2.5//NONSGML v1.0//EN
CALSCALE:GREGORIAN
METHOD:PUBLISH
X-ORIGINAL-URL:https://helgebartels.de
X-WR-CALDESC:Veranstaltungen für Visionssuche, Vier Schilde, Medizinwanderung, Coaching
REFRESH-INTERVAL;VALUE=DURATION:PT1H
X-Robots-Tag:noindex
X-PUBLISHED-TTL:PT1H
BEGIN:VTIMEZONE
TZID:UTC
BEGIN:STANDARD
TZOFFSETFROM:+0000
TZOFFSETTO:+0000
TZNAME:UTC
DTSTART:20260101T000000
END:STANDARD
END:VTIMEZONE
BEGIN:VEVENT
DTSTART;TZID=UTC:20260620T140000
DTEND;TZID=UTC:20260621T170000
DTSTAMP:20260421T084336
CREATED:20260127T104812Z
LAST-MODIFIED:20260418T145110Z
UID:2388-1781964000-1782061200@helgebartels.de
SUMMARY:Sommer flovvv
DESCRIPTION:Sommersonnenwende\, Neugestaltung des Feuerplatzes\, Schwitzhütte\, Open End „Flovvv“ Party. \nZur Sommersonnenwende haben wir ein etwas grösseres Event geplant. Du kannst gezielt dabei sein\, wann Du Zeit und Lust hast oder das ganze Wochenende mit uns verbringen. \nAuf dem Programm stehen: \nDonnerstag 18.06. 12:00 Uhr\nNeugestaltung der Feuerstelle am Schwitzhüttenplatz. Wir werden den Feuerplatz Pflastern und den Halbmond verkleinern\, damit sich das Feuer besser bedienen lässt. Ausserdem bereiten wir alles dafür vor\, Richtung Westen\, also gegenüberliegend eine 2. Hütte zu bauen.\nDie 2. Hütte brauchen wir im Herbst für eine Mann/Frau Wertschätzungszeremonie. Infos folgen im Herbst. \nFreitag 19.06. 14:00 Uhr\nSchwitzhütte Aufbau und Schwitzhütte in die Nacht hinein. \nSamstag 20.06. Flovvv ab Nachmittags\, Sommerparty. \nHerzlich Willkommen. \n 
URL:https://helgebartels.de/event/sommer-flovvv/
LOCATION:Nestwerk\, Im Oberland 22\, Eschwege\, 37269
ATTACH;FMTTYPE=image/jpeg:https://helgebartels.de/wp-content/uploads/Flovvv.jpg
ORGANIZER;CN="Helge Bartels":MAILTO:info@helgebartels.de
END:VEVENT
END:VCALENDAR