BEGIN:VCALENDAR
VERSION:2.0
PRODID:-//Visionssuche, Vier Schilde, Medizinwanderung, Coaching - ECPv6.2.5//NONSGML v1.0//EN
CALSCALE:GREGORIAN
METHOD:PUBLISH
X-WR-CALNAME:Visionssuche, Vier Schilde, Medizinwanderung, Coaching
X-ORIGINAL-URL:https://helgebartels.de
X-WR-CALDESC:Veranstaltungen für Visionssuche, Vier Schilde, Medizinwanderung, Coaching
REFRESH-INTERVAL;VALUE=DURATION:PT1H
X-Robots-Tag:noindex
X-PUBLISHED-TTL:PT1H
BEGIN:VTIMEZONE
TZID:UTC
BEGIN:STANDARD
TZOFFSETFROM:+0000
TZOFFSETTO:+0000
TZNAME:UTC
DTSTART:20250101T000000
END:STANDARD
END:VTIMEZONE
BEGIN:VEVENT
DTSTART;TZID=UTC:20251219T140000
DTEND;TZID=UTC:20251219T230000
DTSTAMP:20260421T111544
CREATED:20250208T171221Z
LAST-MODIFIED:20250821T085854Z
UID:2245-1766152800-1766185200@helgebartels.de
SUMMARY:Schwitzhütte zur Wintersonnenwende
DESCRIPTION:Wie jedes Jahr beenden wir das Sonnenjahr mit einer Schwitzhütte. Herzlich Willkommen. Anmeldung unter info@helgebartels.de
URL:https://helgebartels.de/event/schwitzhuette-zur-wintersonnenwende-3/
LOCATION:Nestwerk\, Im Oberland 22\, Eschwege\, 37269
ATTACH;FMTTYPE=image/jpeg:https://helgebartels.de/wp-content/uploads/2023.05_Pilar_Nestwerk_42.jpg
ORGANIZER;CN="Helge Bartels":MAILTO:info@helgebartels.de
END:VEVENT
END:VCALENDAR