BEGIN:VCALENDAR
VERSION:2.0
PRODID:-//Visionssuche, Vier Schilde, Medizinwanderung, Coaching - ECPv6.2.5//NONSGML v1.0//EN
CALSCALE:GREGORIAN
METHOD:PUBLISH
X-WR-CALNAME:Visionssuche, Vier Schilde, Medizinwanderung, Coaching
X-ORIGINAL-URL:https://helgebartels.de
X-WR-CALDESC:Veranstaltungen für Visionssuche, Vier Schilde, Medizinwanderung, Coaching
REFRESH-INTERVAL;VALUE=DURATION:PT1H
X-Robots-Tag:noindex
X-PUBLISHED-TTL:PT1H
BEGIN:VTIMEZONE
TZID:UTC
BEGIN:STANDARD
TZOFFSETFROM:+0000
TZOFFSETTO:+0000
TZNAME:UTC
DTSTART:20250101T000000
END:STANDARD
END:VTIMEZONE
BEGIN:VEVENT
DTSTART;TZID=UTC:20250912T190000
DTEND;TZID=UTC:20250912T210000
DTSTAMP:20260421T152229
CREATED:20250821T083425Z
LAST-MODIFIED:20250821T085739Z
UID:2313-1757703600-1757710800@helgebartels.de
SUMMARY:Ecstatic Dance mit Shayan
DESCRIPTION:Eine Tanzreise mit Shayan. Ich freue mich sehr darüber\, Shayan mit seiner Musik im Nestwerk begrüssen zu dürfen. Eine zwei stündige Tanzreise\, um sich durch Bewegung zu spüren und in angenehmer Atmosphäre miteinander zu feiern. Anmeldung per Mail. info@helgebartels.de
URL:https://helgebartels.de/event/ecstatic-dance-mit-shayan/
LOCATION:Nestwerk\, Im Oberland 22\, Eschwege\, 37269
ATTACH;FMTTYPE=image/jpeg:https://helgebartels.de/wp-content/uploads/Extatic-dance.jpg
END:VEVENT
END:VCALENDAR