BEGIN:VCALENDAR
VERSION:2.0
PRODID:-//Visionssuche, Vier Schilde, Medizinwanderung, Coaching - ECPv6.2.5//NONSGML v1.0//EN
CALSCALE:GREGORIAN
METHOD:PUBLISH
X-ORIGINAL-URL:https://helgebartels.de
X-WR-CALDESC:Veranstaltungen für Visionssuche, Vier Schilde, Medizinwanderung, Coaching
REFRESH-INTERVAL;VALUE=DURATION:PT1H
X-Robots-Tag:noindex
X-PUBLISHED-TTL:PT1H
BEGIN:VTIMEZONE
TZID:UTC
BEGIN:STANDARD
TZOFFSETFROM:+0000
TZOFFSETTO:+0000
TZNAME:UTC
DTSTART:20250101T000000
END:STANDARD
END:VTIMEZONE
BEGIN:VEVENT
DTSTART;TZID=UTC:20250910T180000
DTEND;TZID=UTC:20250910T220000
DTSTAMP:20260421T153233
CREATED:20250821T084551Z
LAST-MODIFIED:20250821T084551Z
UID:2316-1757527200-1757541600@helgebartels.de
SUMMARY:Männerabend im Nestwerk
DESCRIPTION:Männerabend im Nestwerk \nMonatliches Treffen mit Council\, Atemsession\, Eisbaden und Sauna. \nWertschätzung des letzten Treffens: \nLiebe Männer\, ich bin wieder mal begeistert davon\, wie mutig ihr eure Themen im Council ausgesprochen habt\, Hut ab. Das mutige Mitteilen hilft Erstarrung zu lösen und sich selbst und andere tiefer kennen zu lernen. Das Eisbaden im 8 Grad „warmen“ Kirschenteich war eine echte Herausforderung für uns alle. 😜 Die „Wim Hoff Atmung“ war ideal als Vorbereitung. Unsere Körper waren beeindruckt vom kalten Wasser. Sich spüren und das Immunsystem auf den Winter vorzubereiten\, war das Motto. Zum Glück konnten wir uns hinterher in der Sauna wieder aufwärmen. Am 10. September treffen wir uns zum nächsten Männerabend. 18:00 Uhr im Nestwerk. Vielen Dank für diese wunderbare Männerarbeit\, Helge
URL:https://helgebartels.de/event/maennerabend-im-nestwerk-2/
LOCATION:Nestwerk\, Im Oberland 22\, Eschwege\, 37269
ATTACH;FMTTYPE=image/jpeg:https://helgebartels.de/wp-content/uploads/IMG_8302-scaled.jpeg
ORGANIZER;CN="Helge Bartels":MAILTO:info@helgebartels.de
END:VEVENT
END:VCALENDAR