BEGIN:VCALENDAR
VERSION:2.0
PRODID:-//Visionssuche, Vier Schilde, Medizinwanderung, Coaching - ECPv6.2.5//NONSGML v1.0//EN
CALSCALE:GREGORIAN
METHOD:PUBLISH
X-ORIGINAL-URL:https://helgebartels.de
X-WR-CALDESC:Veranstaltungen für Visionssuche, Vier Schilde, Medizinwanderung, Coaching
REFRESH-INTERVAL;VALUE=DURATION:PT1H
X-Robots-Tag:noindex
X-PUBLISHED-TTL:PT1H
BEGIN:VTIMEZONE
TZID:UTC
BEGIN:STANDARD
TZOFFSETFROM:+0000
TZOFFSETTO:+0000
TZNAME:UTC
DTSTART:20250101T000000
END:STANDARD
END:VTIMEZONE
BEGIN:VEVENT
DTSTART;TZID=UTC:20250424T180000
DTEND;TZID=UTC:20250427T150000
DTSTAMP:20260421T222825
CREATED:20240624T092658Z
LAST-MODIFIED:20240624T092658Z
UID:2135-1745517600-1745766000@helgebartels.de
SUMMARY:Shamanic Shiatsu Retreat Frühling
DESCRIPTION:Frühlingsretreat. Geschlossene Gruppe \n \nZu jeder Jahreszeit eine Veranstaltung\, die Teil des Jahrestraining ist. \n 
URL:https://helgebartels.de/event/shamanic-shiatsu-retreat-fruehling-2/
LOCATION:Nestwerk\, Im Oberland 22\, Eschwege\, 37269
ATTACH;FMTTYPE=image/jpeg:https://helgebartels.de/wp-content/uploads/Logo-vom-Flyer.jpg
END:VEVENT
END:VCALENDAR