BEGIN:VCALENDAR
VERSION:2.0
PRODID:-//Visionssuche, Vier Schilde, Medizinwanderung, Coaching - ECPv6.2.5//NONSGML v1.0//EN
CALSCALE:GREGORIAN
METHOD:PUBLISH
X-ORIGINAL-URL:https://helgebartels.de
X-WR-CALDESC:Veranstaltungen für Visionssuche, Vier Schilde, Medizinwanderung, Coaching
REFRESH-INTERVAL;VALUE=DURATION:PT1H
X-Robots-Tag:noindex
X-PUBLISHED-TTL:PT1H
BEGIN:VTIMEZONE
TZID:UTC
BEGIN:STANDARD
TZOFFSETFROM:+0000
TZOFFSETTO:+0000
TZNAME:UTC
DTSTART:20250101T000000
END:STANDARD
END:VTIMEZONE
BEGIN:VEVENT
DTSTART;TZID=UTC:20250104T120000
DTEND;TZID=UTC:20250105T120000
DTSTAMP:20260422T042800
CREATED:20241030T082816Z
LAST-MODIFIED:20241225T214715Z
UID:2163-1735992000-1736078400@helgebartels.de
SUMMARY:Jetzt gehts wieder los. Ritualnacht zum Jahresbeginn.
DESCRIPTION:Ein Ritual zum Jahresbeginn. Ekstase und Tiefgang. 4.1.2025\n \nMit Helge Bartels\, Dj Leorion und Dreamteam. \nWieder mal Zeit\, ein neues Jahr zu beginnen. 2025 ist im Anmarsch. Die Rauhnächte sind vorbei\, es geht wieder los\, wir beginnen das neue Jahr mit einer berauschenden Ritualnacht. Coole Leute\, geile Location\, Medizin für Körper\, Seele und Geist. Ein glücklicher Anfang ist eine gute Basis\, um ein glückliches Jahr zu beginnen.  \nCouncil\, Kakao\, Massage\, Tanz\, Schwitzhütte.Ein Geschenk an dich selbst.Du bekommst: \nEine abenteuerliche Zeremonienacht.Gemeinschaft\, nette Menschen\, professionelle Begleitung.Timetable:+Schwitzhüttenaufbau+Abendbrot+Council\, du sprichst unter Zeugen aus\, was deine relevanten Themen sind\, was deine Projekte und Wünsche für 2025 sind und wofür du Unterstützung brauchst.+Kakao\, Fairtrade\, Bio\, lecker\, spüre in dein Herz.+Massage\, spüre dich in Berührung+Dancewave\, spüre dich in Bewegung. Leon\, DJ Leorion heizt die Bude an.+Schwitzhütte\, Anbindung an deine heile Natur\, Hau wech den alten Dreck\, Wiedergeburt\, Verbindung mit den Ahnen\, Heilung für dich\, deine Leute und den Planeten. \n108€ incl. Raum\, Holz\, usw. \nErmässigung möglich\, gib was du kannst\, sei dabei\, sei wertschätzend.
URL:https://helgebartels.de/event/jetzt-gehts-wieder-los-ritualnacht-im-nestwerk/
LOCATION:Nestwerk\, Im Oberland 22\, Eschwege\, 37269
ATTACH;FMTTYPE=image/jpeg:https://helgebartels.de/wp-content/uploads/Tod.jpg
ORGANIZER;CN="Helge Bartels":MAILTO:info@helgebartels.de
END:VEVENT
END:VCALENDAR