BEGIN:VCALENDAR
VERSION:2.0
PRODID:-//Visionssuche, Vier Schilde, Medizinwanderung, Coaching - ECPv6.2.5//NONSGML v1.0//EN
CALSCALE:GREGORIAN
METHOD:PUBLISH
X-WR-CALNAME:Visionssuche, Vier Schilde, Medizinwanderung, Coaching
X-ORIGINAL-URL:https://helgebartels.de
X-WR-CALDESC:Veranstaltungen für Visionssuche, Vier Schilde, Medizinwanderung, Coaching
REFRESH-INTERVAL;VALUE=DURATION:PT1H
X-Robots-Tag:noindex
X-PUBLISHED-TTL:PT1H
BEGIN:VTIMEZONE
TZID:UTC
BEGIN:STANDARD
TZOFFSETFROM:+0000
TZOFFSETTO:+0000
TZNAME:UTC
DTSTART:20240101T000000
END:STANDARD
END:VTIMEZONE
BEGIN:VEVENT
DTSTART;TZID=UTC:20240413T120000
DTEND;TZID=UTC:20240414T120000
DTSTAMP:20260421T095822
CREATED:20240213T150058Z
LAST-MODIFIED:20240213T150058Z
UID:2102-1713009600-1713096000@helgebartels.de
SUMMARY:Kakaozeremonie im Nestwerk
DESCRIPTION:Vollgas intensiv. Council\, Kakao\, Massage\, dancewave und Schwitzhütte. Durch die Zeremonie leiten dich Helge Bartels\, DJ Leorion\, Isa an der Geige und Freunde. \nDieses Ritual feiern wir nur einmal im Jahr\, es ist sehr beliebt. Die Choreografie ist einzigartig\, ein unvergessliches Erlebnis. \nWeitere Infos: info@helgebartels.de
URL:https://helgebartels.de/event/kakaozeremonie-im-nestwerk-3/
LOCATION:Nestwerk\, Im Oberland 22\, Eschwege\, 37269
ATTACH;FMTTYPE=image/jpeg:https://helgebartels.de/wp-content/uploads/Schwitz.jpg
ORGANIZER;CN="Helge Bartels":MAILTO:info@helgebartels.de
END:VEVENT
END:VCALENDAR