BEGIN:VCALENDAR
VERSION:2.0
PRODID:-//Visionssuche, Vier Schilde, Medizinwanderung, Coaching - ECPv6.2.5//NONSGML v1.0//EN
CALSCALE:GREGORIAN
METHOD:PUBLISH
X-WR-CALNAME:Visionssuche, Vier Schilde, Medizinwanderung, Coaching
X-ORIGINAL-URL:https://helgebartels.de
X-WR-CALDESC:Veranstaltungen für Visionssuche, Vier Schilde, Medizinwanderung, Coaching
REFRESH-INTERVAL;VALUE=DURATION:PT1H
X-Robots-Tag:noindex
X-PUBLISHED-TTL:PT1H
BEGIN:VTIMEZONE
TZID:UTC
BEGIN:STANDARD
TZOFFSETFROM:+0000
TZOFFSETTO:+0000
TZNAME:UTC
DTSTART:20220101T000000
END:STANDARD
END:VTIMEZONE
BEGIN:VEVENT
DTSTART;TZID=UTC:20220513T140000
DTEND;TZID=UTC:20220515T150000
DTSTAMP:20260422T020439
CREATED:20220327T133749Z
LAST-MODIFIED:20220327T172607Z
UID:1899-1652450400-1652626800@helgebartels.de
SUMMARY:Shiatsuworkshop mit Simon und Jo.
DESCRIPTION:Liebe Leute\,Wir haben eine Workshopreihe kreiert\, die eine Ausgleichsbewegung zu der allgemeinenGrundschwingung da draußen schafft. Wir führen auf Basis von Shiatsu durch 5 Elemente. InZusammenarbeit mit zwei jungen Shiatsu Therapeuten\, Simon und Jo\, ist diese wunderbare Coreographieentstanden. Du kannst zum ersten Termin kommen und dann entscheiden\, ob du die ganze Reihe dabeisein willst. Die weiteren Termine werden mit den Teilnehmern des ersten Workshops vor Ort gemeinsamgeplant. Ich freue mich\, euch im Nestwerk begrüßen zu dürfen.~ Aho ~Dear people\, we have curated a workshop series that creates a balancing movement to the general basicvibration out there. This wonderful choreography was put together in cooperation with two youngShiatsu therapists. Based on Shiatsu\, we will introduce you to one of the 5 elements. This workshop willbe part of a series of 5 weekends along a year that will lead you through a dierent theme each season.You can come to the first appointment and then decide if you want to be there for the whole series. Theother dates will be planned together with the participants of the first workshop on site. I look forward towelcoming you to Nestwerk.(English program below) \n\nHolzelement Zen Shiatsu Workshop im Nestwerkmit Simon\, Jo & HelgeLass die Wut los. Begrüße die Lebenskraft der Natur.Ein zweitägiges Programm für Selbstfürsorge\, tiefe emotionale Befreiung und Energiebewusstsein\, während dudie Vorteile der Shiatsu-Therapie kennenlernst. „Shi“ bedeutet Finger und „Atsu“ bedeutet Druck. Diese sanftejapanische Massagetechnik hilft mit Hilfe der Daumenspitzen den natürlichen Energiefluss im Körper zuharmonisieren! Behandlung für Körper\, Geist und Seele wie die Berührung einer Mutter. Dem Zyklus derJahreszeiten folgend\, stellen wir dir für dieses Frühlings-Retreat das Konzept der chinesischen Medizin desHolz-Elements vor.Die perfekte Zeit\, um an deiner Gallenblase und Leber zu arbeiten. Lass die angesammelte Wut und Frustrationlos. Atme die aufsteigende Kraft der sprießenden Natur und heisse neues Willkommen.Das Programm:Beratung\, geführte Meditation\, achtsame Bewegung\, Spiele\, intuitive Berührung\, Theorie dertraditionellen chinesischen Medizin\, praktische Shiatsu-Praxis\, Tanz\, Medizinspaziergang und Sauna.Freitag\, den 13. Mai um 14 Uhr bis Sonntag\, den 15. Mai um 15 UhrNestwerk Helge Bartels\, Im Oberland 22\, 37269 EschwegeSelbstverpflegung: Bitte bring Verpflegung mit\, wir werden gemeinsam kochen. Bitte komm frisch getestet. Bring deineMatratze\, Schlafsack\, eine Yogamatte und eine kuschelige Decke für die Massagesitzungen mit zusätzliche Kissen wennist möglich ist. Shiatsu praktiziert man am besten auf nahtfreier\, weiten Kleidung mit langen Ärmeln und sauberenSocken. Pyjama-Stil! Der Workshop wird in beiden Sprachen\, Deutsch und Englisch\, abgehalten.Über uns \nSimon\,Dr. Simon ist promovierter Erziehungswissenschaftler und arbeitet als integraler Körpertherapeut undspiritueller Wegbegleiter in seiner Wahlheimat Köln.Neben seiner Arbeit als Shiatsu Therapeut praktiziert er Thai-Yoga-Massage und die auf den Prinzipiendes hawaiianischen Schamanismus aufbauende Lomi-Lomi-Massage – die sogenannte „Königin derMassagen“. In seiner Arbeit führt er diese unterschiedlichen Ansätze zusammen und schat einenfriedlichen und geschützten Raum\, in dem Heilung in ihren unterschiedlichen Facetten erfahrbar wird.Simon’s Website : www.zen-shiatsu.orgJo\,Jo ist eine Zen-Shiatsu-Therapeutin\, die einigen Jahren gereist ist\, bevor sie sich vor einem Jahr in Berlinniedergelassen hat. Sie kam durch die wunderbar seltsame Lebensweise zur heilenden Berührung vonShiatsu\, studierte es bei einem sehr engagierten Zen-Lehrer in Indien und ist seitdem von dieser Kunstbegeistert. Auf die Frage\, was sie an ihrer Praxis am meisten liebt\, lautet die Antwort: „Ihre sanfte\,mütterliche Berührung\, ihr ganzheitlicher Ansatz\, ihre kraftvollen heilenden Tugenden über körperlicheund emotionale Aspekte und die Magie\, Unterstützung und Linderung geben zu können.“Sie macht sich nun auf den Weg als Moderatorin\, Coach und Raumhalterin für bewusstes Arbeiten undfreiberuflich als vegetarische Köchin für Workshops im Bereich Innere Arbeit.https://www.instagram.com/zen_shiatsu_healing/https://www.facebook.com/ZenShiatsuHealing/Helge\,Vater\, Mann\, Opa\, erlaubt sich\, ein wunderbares Leben zu führen und andere mit seiner Kunstzielführend anzustecken. Dipl. Sozpäd. Medizinmann\, Coach\, Visionssucheleiter\, usw. Ich begleite diesenWorkshop als Seniorcoach. Ich halte den Raum\, öne\, schliesse und geb den jungen kreativen dieMöglichkeit\, tief in freudvolle Arbeit einzutauchen. Ich habe das Heilzentrum Nestwerk kreiert\, durch 25Jahre Heilarbeit sind die Erde und die Mauern von Extase und Ausgeglichenheit getränkt.https://www.instagram.com/helgebartels/https://helgebartels.de \nWorkshop-Kosten – 180€ Hosting-Kosten – 36€ für 2 NächteWenn das Lesen all dies das Blut unter Ihrer Haut aktiviert\, müssen Sie vielleicht in Betracht ziehen\,sich uns anzuschließen.Nestwerk Raum für Natur Helge Bartelshttps://helgebartels.de/05651/220814 0163/7756447Im Oberland 22 37269Eschwege/EltmannshausenAnmeldungen unter:info@helgebartels.dejoannebillard.oce@gmail.comj-s.schmid@posteo.deBringen wir das Qi zum Fließen!In Liebe\, Jo\, Simon und Helge \nWood Element Zen Shiatsu Workshop at Nestwerkwith Simon\, Jo & HelgeRelease the anger.Welcome the Life force of Nature.A two days program of self-care\, deep emotional release and energy awareness while learning about thebenefits of Shiatsu therapy.‘’Shi’’ means finger and ‘’Atsu’’ means pressure. This soft Japanese massage technique helps to harmonize thenatural flow of energy in the body by using the tips of the thumbs!Treatment for the body\, mind and soul\, with the touch of a mother.Following the cycle of the seasons\, for this Spring retreat\, we will introduce you to the Chinese Medicineconcept of the Wood element.The perfect time to work on your Gallbladder and Liver. Release the accumulated anger and frustrations.Breathe the rising power of sprouting Nature. And welcome newness.On the programme:Council\, guided meditation\, mindful movement\, play games\, intuitive touch\, Traditional Chinese Medicinetheory\, hands-on Shiatsu practice\, dance\, medicine walk and sauna.Starting on Friday the 13th of May at 14;00Closing on Sunday the 15th of May at 15;00Come at Nestwerk Helge BartelsIm Oberland 22\, 37269 EschwegeSelf-catering: please organize enough food for yourself and consider that we will cook together.Please come freshly tested. Bring your mattress\, sleeping bag\, a yoga mat and a cosy blanket for the massagesessions (bring an extra pillow if possible).Shiatsu is best practised on seamless\, ample clothes with long sleeves and clean socks. Pyjama style!The workshop will be held in both languages\, German and English. \n\nAbout us…Simon\,Dr. Simon holds a doctorate in educational science and works as an integral body therapist and spiritual guide in hishometown Cologne.In addition to his work as a Shiatsu therapist\, he practices Thai Yoga massage and Lomi Lomi massage – the so-called„queen of massages“ – which is based on the principles of Hawaiian shamanism. In his work he brings together thesedierent approaches and creates a peaceful and protected space where healing can be experienced in its dierentfacets.Simon’s website : www.zen-shiatsu.orgJo\,Jo is a Zen Shiatsu therapist who travelled for a few years before settling down in Berlin a few years ago. She came tothe healing touch of Shiatsu by the beautifully strange walk of life\, studied it with a very dedicated Zen teacher in Indiaand is passionate by this art ever since. When asked what she loves most about her practice\, the answer is: “its softmothering touch\, its holistic approach\, its powerful healing virtues over physical and emotional aspects and the magicof being able to give support and relief.”She is now going towards being a facilitator\, a coach and a space holder for conscious work and also freelancing as avegetarian cook for workshops in the field of inner work.https://www.instagram.com/zen_shiatsu_healing/https://www.facebook.com/ZenShiatsuHealing/Helge\,Father\, man\, grandpa\, allows himself to lead a wonderful life and to infect others with his kind and goal-orientedmanner. Social pedagogue\, Medicine man\, Coach\, Vision Quest Leader\, and so on. I accompany this workshop as asenior coach. I hold the space\, open\, close and give the young creative people the opportunity to immerse themselvesdeeply in joyful work. I have created the Nestwerk healing centre 25 years ago and thanks to its history of healing work\,the earth and the walls that surround it are saturated with ecstasy and balance.https://www.instagram.com/helgebartels/https://helgebartels.de/ \nWorkshop cost – 180€ Hosting cost – 36€ for 2 nightsIf reading all of this activates the blood under your skin\, you might have to consider joining us.NestwerkRaum für Naturwww.helgebartels.deinfo@helgebartels.de05651/2208140163/7756447Im Oberland 2237269 Eschwege/EltmannshausenRegistration at:info@helgebartels.dejoannebillard.oce@gmail.comj-s.schmid@posteo.deLet’s make the Qi flow!With Love\, Jo\, Simon und Helge
URL:https://helgebartels.de/event/shiatsuworkshop-mit-simon-und-jo/
LOCATION:Nestwerk\, Im Oberland 22\, Eschwege\, 37269
ATTACH;FMTTYPE=image/jpeg:https://helgebartels.de/wp-content/uploads/woman-gcd625ee32_1920.jpg
END:VEVENT
END:VCALENDAR